BEGIN:VCALENDAR
VERSION:2.0
PRODID:-//hacksw/handcal//NONSGML v1.0//EN
BEGIN:VEVENT
DTSTAMP:20210810T173000Z
DTSTART:20210810T173000Z
DTEND:20210810T173000Z
LOCATION:Jagdschloss Malepartus, Tremsbütteler Weg 100, Bargteheide, 22941, Deutschland
SUMMARY:Jahreshauptversammlung der CDU Bargteheide
END:VEVENT
END:VCALENDAR
