BEGIN:VCALENDAR
VERSION:2.0
PRODID:-//hacksw/handcal//NONSGML v1.0//EN
BEGIN:VEVENT
DTSTAMP:20210730T170000Z
DTSTART:20210730T170000Z
DTEND:20210730T170000Z
LOCATION:Restaurant Fotiou, Lübecker Strasse 15, Delingsdorf, 22941, Deutschland
SUMMARY:Klönschnack der CDU Delingsdorf
END:VEVENT
END:VCALENDAR
