BEGIN:VCALENDAR
VERSION:2.0
PRODID:-//hacksw/handcal//NONSGML v1.0//EN
BEGIN:VEVENT
DTSTAMP:20210812T080000Z
DTSTART:20210812T080000Z
DTEND:20210812T080000Z
LOCATION:VS Media GmbH,  Kurzenlandskoppel 4, Nusse, 23896, Deutschland
SUMMARY:"Digitalisierung - Corona als Reformbeschleuniger?" - mit Ralph Brinkhaus
END:VEVENT
END:VCALENDAR
