BEGIN:VCALENDAR
VERSION:2.0
PRODID:-//hacksw/handcal//NONSGML v1.0//EN
BEGIN:VEVENT
DTSTAMP:20210911T130000Z
DTSTART:20210911T130000Z
DTEND:20210911T150000Z
LOCATION:Grünfläche gegenüber dem Gemeinschaftshaus, Dorfstrasse 43 a, Badendorf, 23619, Deutschland
SUMMARY:Auf einen Kaffee mit Ingo Gädechens!
END:VEVENT
END:VCALENDAR
