BEGIN:VCALENDAR
VERSION:2.0
PRODID:-//hacksw/handcal//NONSGML v1.0//EN
BEGIN:VEVENT
DTSTAMP:20210913T063000Z
DTSTART:20210913T063000Z
DTEND:20210913T080000Z
LOCATION:Hotel zur Windmühle, Hauptstraße 99, Stapelfeld, 22145, Deutschland
SUMMARY:Business Breakfast der MIT Stormarn mit Thomas Peters
END:VEVENT
END:VCALENDAR
