BEGIN:VCALENDAR
VERSION:2.0
PRODID:-//hacksw/handcal//NONSGML v1.0//EN
BEGIN:VEVENT
DTSTAMP:20210913T173000Z
DTSTART:20210913T173000Z
DTEND:20210913T173000Z
LOCATION:Ergiebig Leben Bed & Breakfast, Dahmsdorf 19, Zarpen, 23619, Deutschland
SUMMARY:Jahreshauptversammlung der CDU Zarpen
END:VEVENT
END:VCALENDAR
