BEGIN:VCALENDAR
VERSION:2.0
PRODID:-//hacksw/handcal//NONSGML v1.0//EN
BEGIN:VEVENT
DTSTAMP:20210929T180000Z
DTSTART:20210929T180000Z
DTEND:20210929T180000Z
LOCATION:Bahnhofsgaststätte Bern, Poststraße 1a, 22964, 22964, Deutschland
SUMMARY:Jahreshauptversammlung der CDU Steinburg
END:VEVENT
END:VCALENDAR
