BEGIN:VCALENDAR
VERSION:2.0
PRODID:-//hacksw/handcal//NONSGML v1.0//EN
BEGIN:VEVENT
DTSTAMP:20221002T220000Z
DTSTART:20221002T220000Z
DTEND:20221002T220000Z
LOCATION:Restaurant Strehl, Reeshop 50, Ahrensburg, 22926, Deutschland
SUMMARY:Veranstaltung der Senioren Union zum Tag der Dt. Einheit - NEUER ORT
END:VEVENT
END:VCALENDAR
