BEGIN:VCALENDAR
VERSION:2.0
PRODID:-//hacksw/handcal//NONSGML v1.0//EN
BEGIN:VEVENT
DTSTAMP:20211018T180000Z
DTSTART:20211018T180000Z
DTEND:20211018T180000Z
LOCATION:Bürgerhaus Delingsdorf, An der Friedenslinde 3, Delingsdorf, 22941, Deutschland
SUMMARY:CDU-Treff der CDU Delingsdorf
END:VEVENT
END:VCALENDAR
