BEGIN:VCALENDAR
VERSION:2.0
PRODID:-//hacksw/handcal//NONSGML v1.0//EN
BEGIN:VEVENT
DTSTAMP:20211025T170000Z
DTSTART:20211025T170000Z
DTEND:20211025T170000Z
LOCATION:Schloss Reinbek, Schlossstrasse 5, Reinbek, 21465, Deutschland
SUMMARY:Podiumsdiskussion: Zukunft von Landwirtschaft und Naturschutz
END:VEVENT
END:VCALENDAR
