BEGIN:VCALENDAR
VERSION:2.0
PRODID:-//hacksw/handcal//NONSGML v1.0//EN
BEGIN:VEVENT
DTSTAMP:20211021T173000Z
DTSTART:20211021T173000Z
DTEND:20211021T173000Z
LOCATION:Ganztagszentrum Bargteheide, Am Markt 2, Bargteheide, 22941, Deutschland
SUMMARY:mitgliederoffener Kreisverbandsausschuss der CDU Stormarn
END:VEVENT
END:VCALENDAR
