BEGIN:VCALENDAR
VERSION:2.0
PRODID:-//hacksw/handcal//NONSGML v1.0//EN
BEGIN:VEVENT
DTSTAMP:20211103T180000Z
DTSTART:20211103T180000Z
DTEND:20211103T180000Z
LOCATION:Braaker Krug, Spötzen 1, Braak, 22145, Deutschland
SUMMARY:Jahreshauptversammlung der KPV Stormarn
END:VEVENT
END:VCALENDAR
