BEGIN:VCALENDAR
VERSION:2.0
PRODID:-//hacksw/handcal//NONSGML v1.0//EN
BEGIN:VEVENT
DTSTAMP:20220113T180000Z
DTSTART:20220113T180000Z
DTEND:20220113T180000Z
LOCATION:digital per Cisco Webex, Deutschland
SUMMARY:mitgliederoffener Kreisverbandsausschuss der CDU Stormarn
END:VEVENT
END:VCALENDAR
