BEGIN:VCALENDAR
VERSION:2.0
PRODID:-//hacksw/handcal//NONSGML v1.0//EN
BEGIN:VEVENT
DTSTAMP:20220302T180000Z
DTSTART:20220302T180000Z
DTEND:20220302T190000Z
LOCATION:digital, Deutschland
SUMMARY:Online-Diskussion in Kooperation mit der CDU Lübeck zum Ukraine-Konflikt
END:VEVENT
END:VCALENDAR
