BEGIN:VCALENDAR
VERSION:2.0
PRODID:-//hacksw/handcal//NONSGML v1.0//EN
BEGIN:VEVENT
DTSTAMP:20220424T090000Z
DTSTART:20220424T090000Z
DTEND:20220424T120000Z
LOCATION:Ganztagszentrum , Am Markt 2, Bargteheide, 22941, Deutschland
SUMMARY:Flohmarkt für Kinderartikel der CDU Bargteheide
END:VEVENT
END:VCALENDAR
