BEGIN:VCALENDAR
VERSION:2.0
PRODID:-//hacksw/handcal//NONSGML v1.0//EN
BEGIN:VEVENT
DTSTAMP:20220421T070000Z
DTSTART:20220421T070000Z
DTEND:20220421T070000Z
LOCATION:Jebens Industriebau GmbH, Merkurring 100, Hamburg, 22143, Deutschland
SUMMARY:Besuch des interkommunalen Gewerbeparks Stormarn-Hamburg mit der MIT
END:VEVENT
END:VCALENDAR
