BEGIN:VCALENDAR
VERSION:2.0
PRODID:-//hacksw/handcal//NONSGML v1.0//EN
BEGIN:VEVENT
DTSTAMP:20220509T180000Z
DTSTART:20220509T180000Z
DTEND:20220509T180000Z
LOCATION:Gaststätte Bern, Eichedeer Str. 2, Steinburg OT Mollhagen, 22964, Deutschland
SUMMARY:Kreisvorstandssitzung der CDU Stormarn
END:VEVENT
END:VCALENDAR
