BEGIN:VCALENDAR
VERSION:2.0
PRODID:-//hacksw/handcal//NONSGML v1.0//EN
BEGIN:VEVENT
DTSTAMP:20220507T070000Z
DTSTART:20220507T070000Z
DTEND:20220507T090000Z
LOCATION:Täby-Platz, Deutschland
SUMMARY:Wahlkampfstand der CDU Reinbek mit Lukas Kilian
END:VEVENT
END:VCALENDAR
