BEGIN:VCALENDAR
VERSION:2.0
PRODID:-//hacksw/handcal//NONSGML v1.0//EN
BEGIN:VEVENT
DTSTAMP:20220704T180000Z
DTSTART:20220704T180000Z
DTEND:20220704T180000Z
LOCATION:Bürgerhaus, An der Friedenslinde 3, 22941 Delingsdorf, Deutschland
SUMMARY:CDU-Treff der CDU Delingsdorf
END:VEVENT
END:VCALENDAR
