BEGIN:VCALENDAR
VERSION:2.0
PRODID:-//hacksw/handcal//NONSGML v1.0//EN
BEGIN:VEVENT
DTSTAMP:20220902T170000Z
DTSTART:20220902T170000Z
DTEND:20220902T170000Z
LOCATION:Bürgerhaus, An der Friedenslinde 3, 22941 Delingsdorf, Deutschland
SUMMARY:Jahreshauptversammlung der CDU Delingsdorf
END:VEVENT
END:VCALENDAR
