BEGIN:VCALENDAR
VERSION:2.0
PRODID:-//hacksw/handcal//NONSGML v1.0//EN
BEGIN:VEVENT
DTSTAMP:20220829T173000Z
DTSTART:20220829T173000Z
DTEND:20220829T173000Z
LOCATION:Ratsaal Bargteheide, Rathausstr. 24 - 26, Bargteheide, 22941 , Deutschland
SUMMARY:CDU Bargteheide - Jahreshauptversammlung
END:VEVENT
END:VCALENDAR
