BEGIN:VCALENDAR
VERSION:2.0
PRODID:-//hacksw/handcal//NONSGML v1.0//EN
BEGIN:VEVENT
DTSTAMP:20220901T170000Z
DTSTART:20220901T170000Z
DTEND:20220901T183000Z
LOCATION:Stadtbücherei Ahrensburg, Manfred Samusch Straße 3, Ahrensburg, 22926, Deutschland
SUMMARY:Politrunde - Ukraine Krieg
END:VEVENT
END:VCALENDAR
