BEGIN:VCALENDAR
VERSION:2.0
PRODID:-//hacksw/handcal//NONSGML v1.0//EN
BEGIN:VEVENT
DTSTAMP:20220924T150000Z
DTSTART:20220924T150000Z
DTEND:20220924T150000Z
LOCATION:Hof Stapelfeldt, Bachstraße 8, Hammoor, Deutschland
SUMMARY:CDU Hammoor - Klönschnack mit Grillen ABGESAGT
END:VEVENT
END:VCALENDAR
