BEGIN:VCALENDAR
VERSION:2.0
PRODID:-//hacksw/handcal//NONSGML v1.0//EN
BEGIN:VEVENT
DTSTAMP:20221025T180000Z
DTSTART:20221025T180000Z
DTEND:20221025T180000Z
LOCATION:Bürgerhaus, Mühlenstraße 22, Bad Oldesloe, Deutschland
SUMMARY:CDU Nordstormarn - Stammtisch
END:VEVENT
END:VCALENDAR
