BEGIN:VCALENDAR
VERSION:2.0
PRODID:-//hacksw/handcal//NONSGML v1.0//EN
BEGIN:VEVENT
DTSTAMP:20221117T180000Z
DTSTART:20221117T180000Z
DTEND:20221117T193000Z
LOCATION:Restaurant Strehl, Reeshoop 50, Ahrensburg, 22926, Deutschland
SUMMARY:Ahrensburger Grünkohlessen 2022
END:VEVENT
END:VCALENDAR
