BEGIN:VCALENDAR
VERSION:2.0
PRODID:-//hacksw/handcal//NONSGML v1.0//EN
BEGIN:VEVENT
DTSTAMP:20221106T100000Z
DTSTART:20221106T100000Z
DTEND:20221106T130000Z
LOCATION:Ganztagszentrum, Bargteheide, 22941, Deutschland
SUMMARY:CDU Bargteheide - Flohmarkt für Kinderbekleidung 
END:VEVENT
END:VCALENDAR
