BEGIN:VCALENDAR
VERSION:2.0
PRODID:-//hacksw/handcal//NONSGML v1.0//EN
BEGIN:VEVENT
DTSTAMP:20221024T163000Z
DTSTART:20221024T163000Z
DTEND:20221024T163000Z
LOCATION:ASB RV Stormarn-Segeberg, Hermann-Bössow-Straße 14, Bad Oldesloe, 23843, Deutschland
SUMMARY:CDU Stormarn - Sitzung der Kreistagsfraktion
END:VEVENT
END:VCALENDAR
