BEGIN:VCALENDAR
VERSION:2.0
PRODID:-//hacksw/handcal//NONSGML v1.0//EN
BEGIN:VEVENT
DTSTAMP:20221103T230000Z
DTSTART:20221103T230000Z
DTEND:20221104T230000Z
LOCATION:Bargteheide, Deutschland
SUMMARY:CDU Stormarn - Klausurtagung der Kreistagsfraktion
END:VEVENT
END:VCALENDAR
