BEGIN:VCALENDAR
VERSION:2.0
PRODID:-//hacksw/handcal//NONSGML v1.0//EN
BEGIN:VEVENT
DTSTAMP:20221112T150000Z
DTSTART:20221112T150000Z
DTEND:20221112T150000Z
SUMMARY:CDU Badendorf - Abgriffen & Anpunschen
END:VEVENT
END:VCALENDAR
