BEGIN:VCALENDAR
VERSION:2.0
PRODID:-//hacksw/handcal//NONSGML v1.0//EN
BEGIN:VEVENT
DTSTAMP:20221024T160000Z
DTSTART:20221024T160000Z
DTEND:20221024T160000Z
LOCATION:Bürgerhaus, Mühlenstraße 22, Bad Oldesloe, 23843, Deutschland
SUMMARY:CDU Bad Oldesloe - Wie geht Kommunalpolitik? (Speeddating)
END:VEVENT
END:VCALENDAR
