BEGIN:VCALENDAR
VERSION:2.0
PRODID:-//hacksw/handcal//NONSGML v1.0//EN
BEGIN:VEVENT
DTSTAMP:20221209T180000Z
DTSTART:20221209T180000Z
DTEND:20221209T180000Z
SUMMARY:CDU Bad Oldesloe - Online-Gespräch "Was bringt uns die Quote?"
END:VEVENT
END:VCALENDAR
