BEGIN:VCALENDAR
VERSION:2.0
PRODID:-//hacksw/handcal//NONSGML v1.0//EN
BEGIN:VEVENT
DTSTAMP:20221130T173000Z
DTSTART:20221130T173000Z
DTEND:20221130T173000Z
LOCATION:Wird noch rechtzeitig bekannt gegeben ..., Bad Oldesloe, 23843, Deutschland
SUMMARY:CDU Stormarn - Sitzung der Kreistagsfraktion
END:VEVENT
END:VCALENDAR
