BEGIN:VCALENDAR
VERSION:2.0
PRODID:-//hacksw/handcal//NONSGML v1.0//EN
BEGIN:VEVENT
DTSTAMP:20221229T180000Z
DTSTART:20221229T180000Z
DTEND:20221229T180000Z
LOCATION:Gasthof Waldeslust, Dorfstraße 4, Hamfelde, 22929, Deutschland
SUMMARY:CDU Trittau - Hamfelder Gespräch
END:VEVENT
END:VCALENDAR
