BEGIN:VCALENDAR
VERSION:2.0
PRODID:-//hacksw/handcal//NONSGML v1.0//EN
BEGIN:VEVENT
DTSTAMP:20230310T180000Z
DTSTART:20230310T180000Z
DTEND:20230310T180000Z
SUMMARY:CDU Bad Oldesloe - Online-Gespräch mit Melanie Bernstein (MdB)
END:VEVENT
END:VCALENDAR
