BEGIN:VCALENDAR
VERSION:2.0
PRODID:-//hacksw/handcal//NONSGML v1.0//EN
BEGIN:VEVENT
DTSTAMP:20221206T180000Z
DTSTART:20221206T180000Z
DTEND:20221206T180000Z
LOCATION:Festhalle, Oliver-Allee 2, Bad Oldesloe, 23843, Deutschland
SUMMARY:CDU Bad Oldesloe - MV zur Kandidatenaufstellung (Kreiswahl)
END:VEVENT
END:VCALENDAR
