BEGIN:VCALENDAR
VERSION:2.0
PRODID:-//hacksw/handcal//NONSGML v1.0//EN
BEGIN:VEVENT
DTSTAMP:20221202T180000Z
DTSTART:20221202T180000Z
DTEND:20221202T180000Z
LOCATION:Auf dem Glantz Weihnachtsmarkt, Hamburger Straße 2 b, Delingsdorf, 22941, Deutschland
SUMMARY:CDU Delingsdorf - Glühweintreff bei Glantz
END:VEVENT
END:VCALENDAR
