BEGIN:VCALENDAR
VERSION:2.0
PRODID:-//hacksw/handcal//NONSGML v1.0//EN
BEGIN:VEVENT
DTSTAMP:20221201T180000Z
DTSTART:20221201T180000Z
DTEND:20221201T180000Z
LOCATION:Im neuen Rathaus, Paul-von-Schönaich-Straße 7, Reinfeld, 23858, Deutschland
SUMMARY:CDU Reinfeld - JHV inkl. Vorstandswahl & Kandidatenaufstellung KW'23
END:VEVENT
END:VCALENDAR
