BEGIN:VCALENDAR
VERSION:2.0
PRODID:-//hacksw/handcal//NONSGML v1.0//EN
BEGIN:VEVENT
DTSTAMP:20221221T180000Z
DTSTART:20221221T180000Z
DTEND:20221221T180000Z
LOCATION:Lokation ist den Mitgliedern mit der Einladung bekannt gegeben, Hammoor, 22941, Deutschland
SUMMARY:CDU Stormarn - Konstituierende Sitzung des Kreisvorstandes
END:VEVENT
END:VCALENDAR
