BEGIN:VCALENDAR
VERSION:2.0
PRODID:-//hacksw/handcal//NONSGML v1.0//EN
BEGIN:VEVENT
DTSTAMP:20230127T180000Z
DTSTART:20230127T180000Z
DTEND:20230127T180000Z
LOCATION: Restaurant Fotiou, Lübecker Str. 15, Delingsdorf, 22941, Deutschland
SUMMARY:CDU Delingsdorf - CDU-Klönschnack
END:VEVENT
END:VCALENDAR
