BEGIN:VCALENDAR
VERSION:2.0
PRODID:-//hacksw/handcal//NONSGML v1.0//EN
BEGIN:VEVENT
DTSTAMP:20221212T190000Z
DTSTART:20221212T190000Z
DTEND:20221212T190000Z
LOCATION:Virtuell via Zoom, Deutschland
SUMMARY:CDU Delingsdorf - CDU-Treff (mitgliederoffene Fraktionssitzung)
END:VEVENT
END:VCALENDAR
