BEGIN:VCALENDAR
VERSION:2.0
PRODID:-//hacksw/handcal//NONSGML v1.0//EN
BEGIN:VEVENT
DTSTAMP:20230119T180000Z
DTSTART:20230119T180000Z
DTEND:20230119T180000Z
LOCATION:Restaurant Strehl, Reeshoop 50, Ahrensburg, Deutschland
SUMMARY:CDU Ahrensburg - Mitgliederversammlung mit Kandidatenaufstellung zur KW'23
END:VEVENT
END:VCALENDAR
