BEGIN:VCALENDAR
VERSION:2.0
PRODID:-//hacksw/handcal//NONSGML v1.0//EN
BEGIN:VEVENT
DTSTAMP:20230110T183000Z
DTSTART:20230110T183000Z
DTEND:20230110T183000Z
LOCATION:Restaurant Seniorendorf, Bahnhofstr. 32, Bargteheide, Deutschland
SUMMARY:CDU Bargteheide - Nominierung d. Kandidaten f. d. Kreiswahl, Wahlprogramm
END:VEVENT
END:VCALENDAR
