BEGIN:VCALENDAR
VERSION:2.0
PRODID:-//hacksw/handcal//NONSGML v1.0//EN
BEGIN:VEVENT
DTSTAMP:20230118T180000Z
DTSTART:20230118T180000Z
DTEND:20230118T180000Z
LOCATION:Gaststätte Bern, Poststraße 1a, Steinburg, 22964, Deutschland
SUMMARY:CDU Steinburg - Jahreshauptversammlung inkl. Vorstandswahlen
END:VEVENT
END:VCALENDAR
