BEGIN:VCALENDAR
VERSION:2.0
PRODID:-//hacksw/handcal//NONSGML v1.0//EN
BEGIN:VEVENT
DTSTAMP:20230124T183000Z
DTSTART:20230124T183000Z
DTEND:20230124T183000Z
LOCATION:Lokation ist den Mitgliedern des Kreisvorstandes bekannt, Bargteheide, Deutschland
SUMMARY:CDU Stormarn - Sitzung des Kreisvorstandes
END:VEVENT
END:VCALENDAR
