BEGIN:VCALENDAR
VERSION:2.0
PRODID:-//hacksw/handcal//NONSGML v1.0//EN
BEGIN:VEVENT
DTSTAMP:20230201T180000Z
DTSTART:20230201T180000Z
DTEND:20230201T180000Z
LOCATION:Haus der Vereine (Raum Siek), Hinterm Dorf 2, Siek, 22962, Deutschland
SUMMARY:CDU Siek-Meilsdorf - Jahreshauptversammlung inkl. Wahlen
END:VEVENT
END:VCALENDAR
