BEGIN:VCALENDAR
VERSION:2.0
PRODID:-//hacksw/handcal//NONSGML v1.0//EN
BEGIN:VEVENT
DTSTAMP:20230119T183000Z
DTSTART:20230119T183000Z
DTEND:20230119T183000Z
LOCATION:Sitzungssaal des Rathauses, Reinbek, 21465, Deutschland
SUMMARY:CDU Reinbek - Mitgliederversammlung mit Kandidatenaufstellung zur KW'23
END:VEVENT
END:VCALENDAR
