BEGIN:VCALENDAR
VERSION:2.0
PRODID:-//hacksw/handcal//NONSGML v1.0//EN
BEGIN:VEVENT
DTSTAMP:20230413T170000Z
DTSTART:20230413T170000Z
DTEND:20230413T190000Z
LOCATION:1KOMMA5° Showroom Hamburg, Ballindamm 11, Hamburg, 20095, Deutschland
SUMMARY:CDU Barsbüttel - "Energiewende live erleben" - ABGESAGT
END:VEVENT
END:VCALENDAR
