BEGIN:VCALENDAR
VERSION:2.0
PRODID:-//hacksw/handcal//NONSGML v1.0//EN
BEGIN:VEVENT
DTSTAMP:20230409T080000Z
DTSTART:20230409T080000Z
DTEND:20230409T100000Z
LOCATION:Garten des Bürgerhauses, Soltausredder 20, Barsbüttel, 22885, Deutschland
SUMMARY:CDU Barsbüttel - Große Ostereiersuche
END:VEVENT
END:VCALENDAR
