BEGIN:VCALENDAR
VERSION:2.0
PRODID:-//hacksw/handcal//NONSGML v1.0//EN
BEGIN:VEVENT
DTSTAMP:20230322T180000Z
DTSTART:20230322T180000Z
DTEND:20230322T200000Z
LOCATION:Bürgerhaus Barsbüttel, Soltausredder 20, Barsbüttel, 22885, Deutschland
SUMMARY:CDU Barsbüttel - "Frauen in die Politik" mit Franziska Hoppermann MdB
END:VEVENT
END:VCALENDAR
