BEGIN:VCALENDAR
VERSION:2.0
PRODID:-//hacksw/handcal//NONSGML v1.0//EN
BEGIN:VEVENT
DTSTAMP:20230306T180000Z
DTSTART:20230306T180000Z
DTEND:20230306T200000Z
LOCATION:Bürgerhaus Barsbüttel, Soltausredder 20, Barsbüttel, 22885, Deutschland
SUMMARY:CDU Barsbüttel - "Testament & Vorsorgeverfügung" mit D. Lemke, Rechtsanwalt
END:VEVENT
END:VCALENDAR
